BEGIN:VCALENDAR
VERSION:2.0
PRODID:-//wp-events-plugin.com//7.2.3.1//EN
TZID:Europe/Berlin
X-WR-TIMEZONE:Europe/Berlin
BEGIN:VEVENT
UID:2521@hundeschulzentrum-niederrhein.de
DTSTART;TZID=Europe/Berlin:20251122T100000
DTEND;TZID=Europe/Berlin:20251122T140000
DTSTAMP:20251211T121925Z
URL:https://hundeschulzentrum-niederrhein.de/kurse/sachkundenachweis-am-pl
 atz-3-2025-11-22/
SUMMARY:Sachkundenachweis am Platz
DESCRIPTION:Den Sachkundenachweis Hund NRW kannst du bei uns ganz einfach v
 or Ort ab 29\,90 € in Voerde ablegen.
ATTACH;FMTTYPE=image/jpeg:https://hundeschulzentrum-niederrhein.de/wp-cont
 ent/uploads/2024/09/seminare-sm.png
CATEGORIES:Sachkundenachweis,Seminare
LOCATION:Hundeschulzentrum Niederrhein | Voerde\, Hans-Richter-Str. 22\, Vo
 erde\, NRW\, 46562\, Deutschland
GEO:51.627732;6.686183
X-APPLE-STRUCTURED-LOCATION;VALUE=URI;X-ADDRESS=Hans-Richter-Str. 22\, Voer
 de\, NRW\, 46562\, Deutschland;X-APPLE-RADIUS=100;X-TITLE=Hundeschulzentru
 m Niederrhein | Voerde:geo:51.627732,6.686183
END:VEVENT
BEGIN:VTIMEZONE
TZID:Europe/Berlin
X-LIC-LOCATION:Europe/Berlin
BEGIN:STANDARD
DTSTART:20251026T020000
TZOFFSETFROM:+0200
TZOFFSETTO:+0100
TZNAME:CET
END:STANDARD
END:VTIMEZONE
END:VCALENDAR